BEGIN:VCALENDAR
VERSION:2.0
PRODID:-//Minnesota Homeownership Center - ECPv6.15.20//NONSGML v1.0//EN
CALSCALE:GREGORIAN
METHOD:PUBLISH
X-WR-CALNAME:Minnesota Homeownership Center
X-ORIGINAL-URL:https://www.hocmn.org
X-WR-CALDESC:Events for Minnesota Homeownership Center
REFRESH-INTERVAL;VALUE=DURATION:PT1H
X-Robots-Tag:noindex
X-PUBLISHED-TTL:PT1H
BEGIN:VTIMEZONE
TZID:America/Chicago
BEGIN:DAYLIGHT
TZOFFSETFROM:-0600
TZOFFSETTO:-0500
TZNAME:CDT
DTSTART:20250309T080000
END:DAYLIGHT
BEGIN:STANDARD
TZOFFSETFROM:-0500
TZOFFSETTO:-0600
TZNAME:CST
DTSTART:20251102T070000
END:STANDARD
BEGIN:DAYLIGHT
TZOFFSETFROM:-0600
TZOFFSETTO:-0500
TZNAME:CDT
DTSTART:20260308T080000
END:DAYLIGHT
BEGIN:STANDARD
TZOFFSETFROM:-0500
TZOFFSETTO:-0600
TZNAME:CST
DTSTART:20261101T070000
END:STANDARD
BEGIN:DAYLIGHT
TZOFFSETFROM:-0600
TZOFFSETTO:-0500
TZNAME:CDT
DTSTART:20270314T080000
END:DAYLIGHT
BEGIN:STANDARD
TZOFFSETFROM:-0500
TZOFFSETTO:-0600
TZNAME:CST
DTSTART:20271107T070000
END:STANDARD
END:VTIMEZONE
BEGIN:VEVENT
DTSTART;TZID=America/Chicago:20260325T090000
DTEND;TZID=America/Chicago:20260325T170000
DTSTAMP:20260425T170614
CREATED:20250919T153934Z
LAST-MODIFIED:20260120T143959Z
UID:10001213-1774429200-1774458000@www.hocmn.org
SUMMARY:Three Rivers Community Action
DESCRIPTION:
URL:https://www.hocmn.org/workshop/three-rivers-community-action-12/
CATEGORIES:Live Virtual
END:VEVENT
BEGIN:VEVENT
DTSTART;TZID=America/Chicago:20260325T173000
DTEND;TZID=America/Chicago:20260325T213000
DTSTAMP:20260425T170614
CREATED:20251014T150053Z
LAST-MODIFIED:20260114T215826Z
UID:10001297-1774459800-1774474200@www.hocmn.org
SUMMARY:NeighborWorks Home Partners
DESCRIPTION:
URL:https://www.hocmn.org/workshop/neighborworks-home-partners-6/
CATEGORIES:In Person
END:VEVENT
BEGIN:VEVENT
DTSTART;TZID=America/Chicago:20260326T090000
DTEND;TZID=America/Chicago:20260326T090000
DTSTAMP:20260425T170614
CREATED:20251008T184631Z
LAST-MODIFIED:20251008T184631Z
UID:10001280-1774515600-1774515600@www.hocmn.org
SUMMARY:KOOTASCA Community Action
DESCRIPTION:
URL:https://www.hocmn.org/workshop/kootasca-community-action-6/
CATEGORIES:Live Virtual
END:VEVENT
BEGIN:VEVENT
DTSTART;TZID=America/Chicago:20260326T090000
DTEND;TZID=America/Chicago:20260326T173000
DTSTAMP:20260425T170614
CREATED:20251008T181604Z
LAST-MODIFIED:20251008T181604Z
UID:10001274-1774515600-1774546200@www.hocmn.org
SUMMARY:Arrowhead Economic Opportunity Agency
DESCRIPTION:
URL:https://www.hocmn.org/workshop/arrowhead-economic-opportunity-agency-3/
CATEGORIES:Live Virtual
END:VEVENT
BEGIN:VEVENT
DTSTART;TZID=America/Chicago:20260327T083000
DTEND;TZID=America/Chicago:20260327T170000
DTSTAMP:20260425T170614
CREATED:20251013T160310Z
LAST-MODIFIED:20251013T160310Z
UID:10001288-1774600200-1774630800@www.hocmn.org
SUMMARY:Dakota County Community Development Agency
DESCRIPTION:
URL:https://www.hocmn.org/workshop/dakota-county-community-development-agency-11/
LOCATION:Dakota County Community Development Agency\, 1228 Town Centre Drive\, Eagan\, MN\, 55123\, United States
CATEGORIES:In Person
END:VEVENT
BEGIN:VEVENT
DTSTART;TZID=America/Chicago:20260328T090000
DTEND;TZID=America/Chicago:20260328T170000
DTSTAMP:20260425T170614
CREATED:20250922T211756Z
LAST-MODIFIED:20250922T211756Z
UID:10001223-1774688400-1774717200@www.hocmn.org
SUMMARY:Anoka County Community Action Partnership
DESCRIPTION:
URL:https://www.hocmn.org/workshop/anoka-county-community-action-partnership-7/
LOCATION:Keller Williams Realty Office\, 1740 116th Ave NW \, Coon Rapids\, 55448\, United States
CATEGORIES:In Person
END:VEVENT
BEGIN:VEVENT
DTSTART;TZID=America/Chicago:20260328T090000
DTEND;TZID=America/Chicago:20260328T170000
DTSTAMP:20260425T170614
CREATED:20250925T225223Z
LAST-MODIFIED:20250925T225223Z
UID:10001250-1774688400-1774717200@www.hocmn.org
SUMMARY:PRG\, Inc.
DESCRIPTION:
URL:https://www.hocmn.org/workshop/prg-inc-19/
LOCATION:PRG Inc.\, 2017 East 38th Street\, Minneapolis\, MN\, 55407
END:VEVENT
BEGIN:VEVENT
DTSTART;TZID=America/Chicago:20260328T090000
DTEND;TZID=America/Chicago:20260328T170000
DTSTAMP:20260425T170614
CREATED:20250925T225351Z
LAST-MODIFIED:20250925T225351Z
UID:10001251-1774688400-1774717200@www.hocmn.org
SUMMARY:PRG\, Inc.
DESCRIPTION:
URL:https://www.hocmn.org/workshop/prg-inc-20/
END:VEVENT
BEGIN:VEVENT
DTSTART;TZID=America/Chicago:20260330T090000
DTEND;TZID=America/Chicago:20260330T170000
DTSTAMP:20260425T170614
CREATED:20251006T162756Z
LAST-MODIFIED:20251006T162756Z
UID:10001262-1774861200-1774890000@www.hocmn.org
SUMMARY:International Institute of Minnesota
DESCRIPTION:
URL:https://www.hocmn.org/workshop/international-institute-of-minnesota-7/
LOCATION:International Institute of Minnesota\, 1694 Como Avenue\, St. Paul\, MN\, 55108\, United States
END:VEVENT
BEGIN:VEVENT
DTSTART;TZID=America/Chicago:20260330T170000
DTEND;TZID=America/Chicago:20260331T170000
DTSTAMP:20260425T170614
CREATED:20251113T173155Z
LAST-MODIFIED:20260108T151856Z
UID:10001339-1774890000-1774976400@www.hocmn.org
SUMMARY:Washington County CDA
DESCRIPTION:
URL:https://www.hocmn.org/workshop/washington-county-cda-5/
END:VEVENT
END:VCALENDAR