BEGIN:VCALENDAR
VERSION:2.0
PRODID:-//Minnesota Homeownership Center - ECPv6.15.20//NONSGML v1.0//EN
CALSCALE:GREGORIAN
METHOD:PUBLISH
X-ORIGINAL-URL:https://www.hocmn.org
X-WR-CALDESC:Events for Minnesota Homeownership Center
REFRESH-INTERVAL;VALUE=DURATION:PT1H
X-Robots-Tag:noindex
X-PUBLISHED-TTL:PT1H
BEGIN:VTIMEZONE
TZID:America/Chicago
BEGIN:DAYLIGHT
TZOFFSETFROM:-0600
TZOFFSETTO:-0500
TZNAME:CDT
DTSTART:20250309T080000
END:DAYLIGHT
BEGIN:STANDARD
TZOFFSETFROM:-0500
TZOFFSETTO:-0600
TZNAME:CST
DTSTART:20251102T070000
END:STANDARD
BEGIN:DAYLIGHT
TZOFFSETFROM:-0600
TZOFFSETTO:-0500
TZNAME:CDT
DTSTART:20260308T080000
END:DAYLIGHT
BEGIN:STANDARD
TZOFFSETFROM:-0500
TZOFFSETTO:-0600
TZNAME:CST
DTSTART:20261101T070000
END:STANDARD
BEGIN:DAYLIGHT
TZOFFSETFROM:-0600
TZOFFSETTO:-0500
TZNAME:CDT
DTSTART:20270314T080000
END:DAYLIGHT
BEGIN:STANDARD
TZOFFSETFROM:-0500
TZOFFSETTO:-0600
TZNAME:CST
DTSTART:20271107T070000
END:STANDARD
END:VTIMEZONE
BEGIN:VEVENT
DTSTART;TZID=America/Chicago:20260425T083000
DTEND;TZID=America/Chicago:20260425T173000
DTSTAMP:20260425T104622
CREATED:20251218T211344Z
LAST-MODIFIED:20251218T211344Z
UID:10001369-1777105800-1777138200@www.hocmn.org
SUMMARY:Comunidades Latinas Unidas en Servicio
DESCRIPTION:
URL:https://www.hocmn.org/workshop/comunidades-latinas-unidas-en-servicio-7/
LOCATION:Comunidades Latinas Unidas En Servicio (CLUES) – Minneapolis\, 777 E Lake St\, Minneapolis\, MN\, 55407\, United States
CATEGORIES:In Person
END:VEVENT
BEGIN:VEVENT
DTSTART;TZID=America/Chicago:20260425T090000
DTEND;TZID=America/Chicago:20260425T090000
DTSTAMP:20260425T104622
CREATED:20251111T170404Z
LAST-MODIFIED:20251111T170427Z
UID:10001334-1777107600-1777107600@www.hocmn.org
SUMMARY:Neighborhood Development Alliance
DESCRIPTION:
URL:https://www.hocmn.org/workshop/neighborhood-development-alliance-4/
LOCATION:Villa del Sol\, 88 Cesar Chavez St\, St. Paul\, MN\, 55107\, United States
CATEGORIES:In Person
END:VEVENT
BEGIN:VEVENT
DTSTART;TZID=America/Chicago:20260427T083000
DTEND;TZID=America/Chicago:20260427T170000
DTSTAMP:20260425T104622
CREATED:20251113T173959Z
LAST-MODIFIED:20251113T174135Z
UID:10001340-1777278600-1777309200@www.hocmn.org
SUMMARY:Washington County CDA
DESCRIPTION:
URL:https://www.hocmn.org/workshop/washington-county-cda-8/
LOCATION:Washington County Community Development Agency\, 7645 Currell Blvd\, Woodbury\, MN\, 55125\, United States
END:VEVENT
BEGIN:VEVENT
DTSTART;TZID=America/Chicago:20260429T090000
DTEND;TZID=America/Chicago:20260429T170000
DTSTAMP:20260425T104622
CREATED:20251006T163149Z
LAST-MODIFIED:20251006T163149Z
UID:10001263-1777453200-1777482000@www.hocmn.org
SUMMARY:International Institute of Minnesota
DESCRIPTION:
URL:https://www.hocmn.org/workshop/international-institute-of-minnesota-8/
LOCATION:International Institute of Minnesota\, 1694 Como Avenue\, St. Paul\, MN\, 55108\, United States
END:VEVENT
END:VCALENDAR